BEGIN:VCALENDAR
VERSION:2.0
PRODID:-//Galveston FeatherFest - ECPv4.6.3//NONSGML v1.0//EN
CALSCALE:GREGORIAN
METHOD:PUBLISH
X-WR-CALNAME:Galveston FeatherFest
X-ORIGINAL-URL:https://www.galvestonfeatherfest.com
X-WR-CALDESC:Events for Galveston FeatherFest
BEGIN:VEVENT
DTSTART;TZID=America/Chicago:20260415T133000
DTEND;TZID=America/Chicago:20260415T160000
DTSTAMP:20260421T090258
CREATED:20181016T203421Z
LAST-MODIFIED:20251221T155648Z
UID:8397-1776259800-1776268800@www.galvestonfeatherfest.com
SUMMARY:Birding Armand Bayou by Pontoon Boat #2
DESCRIPTION:\n\n\n\n\n\n\nPhoto: Gary Seloff\n    \nTwo of the most iconic birds in North America visit Armand Bayou every winter and spring. The American bald eagle and osprey spend November through April hunting and fishing the productive waters of the bayou. Once threatened by the use of pesticides\, the recovery of these species is a great testament to the value of clean water and habitat preservation.  It’s hard to believe you’re in Houston’s backyard when enjoying this incredible viewing opportunity. \nWhat to Expect:  Join us as we take a bayou tour onboard the Armand Bayou Nature Center’s pontoon boat for some of the best viewing opportunities on the Texas coast. Osprey are fish-eating birds which put on a spectacular show as they dive into the water from significant heights. Few of us forget such an aerial display or the chance to see an eagle in the wild. \nWhat to Bring:  water\, sunscreen\, insect repellent\, and wear closed-toed walking shoes. \nImportant Information:  This will be a meet-at-site trip.  Driving directions will be sent prior to the festival. \nIn case of inclement weather\, issues with the tide or unforeseen circumstances in which the pontoon boat cannot go out\, this trip is planned to be switched to a Bayou Safari Tour in lieu of cancellation. A description of the Bayou Safari Tour trip states\, “Experience Armand Bayou Nature Center on a guided outing! Begin the tour observing wildlife from the elevated boardwalk. You will visit our animal ambassadors in the lobby of our newly renovated Environmental Learning Center. Then board our electric vehicle and leisurely explore the riparian forest down to the bayou\, over to the prairie\, farmhouse\, and finally to the bison.” \nBayou Ranger\n\n\n\n\n\n\n\n\n
URL:https://www.galvestonfeatherfest.com/event/armand-bayou-pontoon-boat-2/
CATEGORIES:Birding Field Trips
END:VEVENT
END:VCALENDAR